BEGIN:VCALENDAR
VERSION:2.0
PRODID:-//Corridas de Rua - RS - ECPv4.5.7//NONSGML v1.0//EN
CALSCALE:GREGORIAN
METHOD:PUBLISH
X-WR-CALNAME:Corridas de Rua - RS
X-ORIGINAL-URL:https://corridasderuars.com.br
X-WR-CALDESC:Events for Corridas de Rua - RS
BEGIN:VEVENT
DTSTART;TZID=UTC+0:20180527T083000
DTEND;TZID=UTC+0:20180527T083000
DTSTAMP:20260420T005458
CREATED:20180326T112732Z
LAST-MODIFIED:20180326T112732Z
UID:3696-1527409800-1527409800@corridasderuars.com.br
SUMMARY:1ª Corrida e Caminhada Beneficente APAE
DESCRIPTION:
URL:https://corridasderuars.com.br/evento/1a-corrida-e-caminhada-beneficente-apae/
CATEGORIES:6km
ATTACH;FMTTYPE=image/jpeg:https://corridasderuars.com.br/wp-content/uploads/2017/12/bg58.jpg
END:VEVENT
END:VCALENDAR