BEGIN:VCALENDAR
VERSION:2.0
PRODID:-//Corridas de Rua - RS - ECPv4.5.7//NONSGML v1.0//EN
CALSCALE:GREGORIAN
METHOD:PUBLISH
X-WR-CALNAME:Corridas de Rua - RS
X-ORIGINAL-URL:https://corridasderuars.com.br
X-WR-CALDESC:Events for Corridas de Rua - RS
BEGIN:VEVENT
DTSTART;TZID=UTC+0:20190501T090000
DTEND;TZID=UTC+0:20190501T090000
DTSTAMP:20260420T040841
CREATED:20190404T142917Z
LAST-MODIFIED:20190404T143440Z
UID:5020-1556701200-1556701200@corridasderuars.com.br
SUMMARY:1ª Corrida do 37º Aniversário de Capão Leão
DESCRIPTION:
URL:https://corridasderuars.com.br/evento/1a-corrida-do-37o-aniversario-de-capao-leao/
CATEGORIES:5km
ATTACH;FMTTYPE=image/jpeg:https://corridasderuars.com.br/wp-content/uploads/2018/10/bg88.jpg
END:VEVENT
END:VCALENDAR