BEGIN:VCALENDAR
VERSION:2.0
PRODID:-//Corridas de Rua - RS - ECPv4.5.7//NONSGML v1.0//EN
CALSCALE:GREGORIAN
METHOD:PUBLISH
X-WR-CALNAME:Corridas de Rua - RS
X-ORIGINAL-URL:https://corridasderuars.com.br
X-WR-CALDESC:Events for Corridas de Rua - RS
BEGIN:VEVENT
DTSTART;TZID=UTC+0:20180527T090000
DTEND;TZID=UTC+0:20180527T090000
DTSTAMP:20260420T051857
CREATED:20180403T134409Z
LAST-MODIFIED:20180406T135955Z
UID:3728-1527411600-1527411600@corridasderuars.com.br
SUMMARY:1ª Corrida de Obstáculos Viana X-Treme
DESCRIPTION:
URL:https://corridasderuars.com.br/evento/1a-corrida-de-obstaculos-viana-x-treme/
CATEGORIES:10km,5km
ATTACH;FMTTYPE=image/jpeg:https://corridasderuars.com.br/wp-content/uploads/2017/12/bgrace.jpg
END:VEVENT
END:VCALENDAR