BEGIN:VCALENDAR
VERSION:2.0
PRODID:-//Corridas de Rua - RS - ECPv4.5.7//NONSGML v1.0//EN
CALSCALE:GREGORIAN
METHOD:PUBLISH
X-WR-CALNAME:Corridas de Rua - RS
X-ORIGINAL-URL:https://corridasderuars.com.br
X-WR-CALDESC:Events for Corridas de Rua - RS
BEGIN:VEVENT
DTSTART;TZID=UTC+0:20211219T093000
DTEND;TZID=UTC+0:20211219T093000
DTSTAMP:20260421T083751
CREATED:20211206T163756Z
LAST-MODIFIED:20211206T163927Z
UID:7603-1639906200-1639906200@corridasderuars.com.br
SUMMARY:1ª Corrida de Natal Solidário
DESCRIPTION:
URL:https://corridasderuars.com.br/evento/1a-corrida-de-natal-solidario/
CATEGORIES:6km
ATTACH;FMTTYPE=image/jpeg:https://corridasderuars.com.br/wp-content/uploads/2018/10/bg86.jpg
END:VEVENT
END:VCALENDAR