BEGIN:VCALENDAR
VERSION:2.0
PRODID:-//Corridas de Rua - RS - ECPv4.5.7//NONSGML v1.0//EN
CALSCALE:GREGORIAN
METHOD:PUBLISH
X-WR-CALNAME:Corridas de Rua - RS
X-ORIGINAL-URL:https://corridasderuars.com.br
X-WR-CALDESC:Events for Corridas de Rua - RS
BEGIN:VEVENT
DTSTART;TZID=UTC+0:20181104T090000
DTEND;TZID=UTC+0:20181104T090000
DTSTAMP:20260419T172123
CREATED:20180917T203431Z
LAST-MODIFIED:20180917T203431Z
UID:4257-1541322000-1541322000@corridasderuars.com.br
SUMMARY:1ª Corrida Armazém da Saúde
DESCRIPTION:
URL:https://corridasderuars.com.br/evento/1a-corrida-armazem-da-saude/
CATEGORIES:3km,6km
ATTACH;FMTTYPE=image/jpeg:https://corridasderuars.com.br/wp-content/uploads/2017/07/bg17-1.jpg
END:VEVENT
END:VCALENDAR