BEGIN:VCALENDAR
VERSION:2.0
PRODID:-//Corridas de Rua - RS - ECPv4.5.7//NONSGML v1.0//EN
CALSCALE:GREGORIAN
METHOD:PUBLISH
X-WR-CALNAME:Corridas de Rua - RS
X-ORIGINAL-URL:https://corridasderuars.com.br
X-WR-CALDESC:Events for Corridas de Rua - RS
BEGIN:VEVENT
DTSTART;TZID=UTC+0:20180421T093000
DTEND;TZID=UTC+0:20180421T093000
DTSTAMP:20260420T023256
CREATED:20180302T171058Z
LAST-MODIFIED:20180302T171058Z
UID:3619-1524303000-1524303000@corridasderuars.com.br
SUMMARY:1ª Corrida Adão Juarez Camões - 24º Aniversário ACORES
DESCRIPTION:
URL:https://corridasderuars.com.br/evento/1a-corrida-adao-juarez-camoes-24o-aniversario-acores/
CATEGORIES:7km
ATTACH;FMTTYPE=image/jpeg:https://corridasderuars.com.br/wp-content/uploads/2017/07/bg15-1.jpg
END:VEVENT
END:VCALENDAR