BEGIN:VCALENDAR
VERSION:2.0
PRODID:-//Corridas de Rua - RS - ECPv4.5.7//NONSGML v1.0//EN
CALSCALE:GREGORIAN
METHOD:PUBLISH
X-WR-CALNAME:Corridas de Rua - RS
X-ORIGINAL-URL:https://corridasderuars.com.br
X-WR-CALDESC:Events for Corridas de Rua - RS
BEGIN:VEVENT
DTSTART;TZID=UTC+0:20190127T083000
DTEND;TZID=UTC+0:20190127T083000
DTSTAMP:20260421T140114
CREATED:20190122T122520Z
LAST-MODIFIED:20190122T122520Z
UID:4762-1548577800-1548577800@corridasderuars.com.br
SUMMARY:1ª Corrida "242"
DESCRIPTION:
URL:https://corridasderuars.com.br/evento/1a-corrida-242/
CATEGORIES:1.9km,5.8km
ATTACH;FMTTYPE=image/jpeg:https://corridasderuars.com.br/wp-content/uploads/2018/10/bg84.jpg
END:VEVENT
END:VCALENDAR