BEGIN:VCALENDAR
VERSION:2.0
PRODID:-//Corridas de Rua - RS - ECPv4.5.7//NONSGML v1.0//EN
CALSCALE:GREGORIAN
METHOD:PUBLISH
X-WR-CALNAME:Corridas de Rua - RS
X-ORIGINAL-URL:https://corridasderuars.com.br
X-WR-CALDESC:Events for Corridas de Rua - RS
BEGIN:VEVENT
DTSTART;TZID=UTC+0:20210809T080000
DTEND;TZID=UTC+0:20210816T180000
DTSTAMP:20260421T100826
CREATED:20210721T152845Z
LAST-MODIFIED:20210721T152845Z
UID:7245-1628496000-1629136800@corridasderuars.com.br
SUMMARY:17ª Corrida do Aniversário de Porto Alegre - Virtual
DESCRIPTION:
URL:https://corridasderuars.com.br/evento/17a-corrida-do-aniversario-de-porto-alegre-virtual/
CATEGORIES:10km,15km,5km
ATTACH;FMTTYPE=image/jpeg:https://corridasderuars.com.br/wp-content/uploads/2017/07/bg13-1.jpg
END:VEVENT
END:VCALENDAR