BEGIN:VCALENDAR
VERSION:2.0
PRODID:-//Corridas de Rua - RS - ECPv4.5.7//NONSGML v1.0//EN
CALSCALE:GREGORIAN
METHOD:PUBLISH
X-WR-CALNAME:Corridas de Rua - RS
X-ORIGINAL-URL:https://corridasderuars.com.br
X-WR-CALDESC:Events for Corridas de Rua - RS
BEGIN:VEVENT
DTSTART;TZID=UTC+0:20171217T083000
DTEND;TZID=UTC+0:20171217T083000
DTSTAMP:20260420T054322
CREATED:20171120T200612Z
LAST-MODIFIED:20171120T200612Z
UID:3209-1513499400-1513499400@corridasderuars.com.br
SUMMARY:16ª Corrida para um Novo Ano - Paul da Rosa Mello
DESCRIPTION:
URL:https://corridasderuars.com.br/evento/16a-corrida-para-um-novo-ano-paul-da-rosa-mello/
CATEGORIES:13km
ATTACH;FMTTYPE=image/jpeg:https://corridasderuars.com.br/wp-content/uploads/2017/07/bg14-1.jpg
END:VEVENT
END:VCALENDAR