BEGIN:VCALENDAR
VERSION:2.0
PRODID:-//Corridas de Rua - RS - ECPv4.5.7//NONSGML v1.0//EN
CALSCALE:GREGORIAN
METHOD:PUBLISH
X-WR-CALNAME:Corridas de Rua - RS
X-ORIGINAL-URL:https://corridasderuars.com.br
X-WR-CALDESC:Events for Corridas de Rua - RS
BEGIN:VEVENT
DTSTART;TZID=UTC+0:20190126T063000
DTEND;TZID=UTC+0:20190126T063000
DTSTAMP:20260421T113335
CREATED:20181203T115411Z
LAST-MODIFIED:20181203T115411Z
UID:4568-1548484200-1548484200@corridasderuars.com.br
SUMMARY:15ª TTT - Travessia Torres Tramandaí
DESCRIPTION:
URL:https://corridasderuars.com.br/evento/15a-ttt-travessia-torres-tramandai/
CATEGORIES:82km
ATTACH;FMTTYPE=image/jpeg:https://corridasderuars.com.br/wp-content/uploads/2017/07/bgPraia.jpg
END:VEVENT
END:VCALENDAR