BEGIN:VCALENDAR
VERSION:2.0
PRODID:-//Corridas de Rua - RS - ECPv4.5.7//NONSGML v1.0//EN
CALSCALE:GREGORIAN
METHOD:PUBLISH
X-WR-CALNAME:Corridas de Rua - RS
X-ORIGINAL-URL:https://corridasderuars.com.br
X-WR-CALDESC:Events for Corridas de Rua - RS
BEGIN:VEVENT
DTSTART;TZID=UTC+0:20180127T060000
DTEND;TZID=UTC+0:20180127T060000
DTSTAMP:20260420T042645
CREATED:20170914T113752Z
LAST-MODIFIED:20171114T174814Z
UID:2810-1517032800-1517032800@corridasderuars.com.br
SUMMARY:14ª Travessia Torres Tramandaí
DESCRIPTION:
URL:https://corridasderuars.com.br/evento/14a-travessia-torres-tramandai/
CATEGORIES:82km
ATTACH;FMTTYPE=image/jpeg:https://corridasderuars.com.br/wp-content/uploads/2017/07/bgPraia1.jpg
END:VEVENT
END:VCALENDAR