BEGIN:VCALENDAR
VERSION:2.0
PRODID:-//Corridas de Rua - RS - ECPv4.5.7//NONSGML v1.0//EN
CALSCALE:GREGORIAN
METHOD:PUBLISH
X-WR-CALNAME:Corridas de Rua - RS
X-ORIGINAL-URL:https://corridasderuars.com.br
X-WR-CALDESC:Events for Corridas de Rua - RS
BEGIN:VEVENT
DTSTART;TZID=UTC+0:20191013T090000
DTEND;TZID=UTC+0:20191013T090000
DTSTAMP:20260420T084441
CREATED:20190916T160524Z
LAST-MODIFIED:20190916T194546Z
UID:5684-1570957200-1570957200@corridasderuars.com.br
SUMMARY:14ª Edição da Rústica Contra a Violência Infantil
DESCRIPTION:
URL:https://corridasderuars.com.br/evento/14a-edicao-da-rustica-contra-a-violencia-infantil/
CATEGORIES:4km,7.1km
ATTACH;FMTTYPE=image/jpeg:https://corridasderuars.com.br/wp-content/uploads/2017/07/bg35.jpg
END:VEVENT
END:VCALENDAR