BEGIN:VCALENDAR
VERSION:2.0
PRODID:-//Corridas de Rua - RS - ECPv4.5.7//NONSGML v1.0//EN
CALSCALE:GREGORIAN
METHOD:PUBLISH
X-WR-CALNAME:Corridas de Rua - RS
X-ORIGINAL-URL:https://corridasderuars.com.br
X-WR-CALDESC:Events for Corridas de Rua - RS
BEGIN:VEVENT
DTSTART;TZID=UTC+0:20171223T180000
DTEND;TZID=UTC+0:20171223T180000
DTSTAMP:20260420T042524
CREATED:20171108T132854Z
LAST-MODIFIED:20171204T202522Z
UID:3077-1514052000-1514052000@corridasderuars.com.br
SUMMARY:14ª Corrida Natal Sem Fome
DESCRIPTION:
URL:https://corridasderuars.com.br/evento/14a-corrida-natal-sem-fome/
CATEGORIES:10km,5km
ATTACH;FMTTYPE=image/jpeg:https://corridasderuars.com.br/wp-content/uploads/2017/07/bg28-1.jpg
END:VEVENT
END:VCALENDAR