BEGIN:VCALENDAR
VERSION:2.0
PRODID:-//Corridas de Rua - RS - ECPv4.5.7//NONSGML v1.0//EN
CALSCALE:GREGORIAN
METHOD:PUBLISH
X-WR-CALNAME:Corridas de Rua - RS
X-ORIGINAL-URL:https://corridasderuars.com.br
X-WR-CALDESC:Events for Corridas de Rua - RS
BEGIN:VEVENT
DTSTART;TZID=UTC+0:20190922T080000
DTEND;TZID=UTC+0:20190922T080000
DTSTAMP:20260421T084153
CREATED:20190619T122030Z
LAST-MODIFIED:20190619T122030Z
UID:5311-1569139200-1569139200@corridasderuars.com.br
SUMMARY:13ª Rústica e 2ª Meia Maratona Estadual de Santa Cruz do Sul
DESCRIPTION:
URL:https://corridasderuars.com.br/evento/13a-rustica-e-2a-meia-maratona-estadual-de-santa-cruz-do-sul/
CATEGORIES:10km,21km,3.5km
ATTACH;FMTTYPE=image/jpeg:https://corridasderuars.com.br/wp-content/uploads/2017/07/bg23-1.jpg
END:VEVENT
END:VCALENDAR