BEGIN:VCALENDAR
VERSION:2.0
PRODID:-//Corridas de Rua - RS - ECPv4.5.7//NONSGML v1.0//EN
CALSCALE:GREGORIAN
METHOD:PUBLISH
X-WR-CALNAME:Corridas de Rua - RS
X-ORIGINAL-URL:https://corridasderuars.com.br
X-WR-CALDESC:Events for Corridas de Rua - RS
BEGIN:VEVENT
DTSTART;TZID=UTC+0:20170909T080000
DTEND;TZID=UTC+0:20170909T080000
DTSTAMP:20260420T091602
CREATED:20170804T173956Z
LAST-MODIFIED:20170804T173956Z
UID:2629-1504944000-1504944000@corridasderuars.com.br
SUMMARY:12ª ULTRAMARATONA DO RS
DESCRIPTION:
URL:https://corridasderuars.com.br/evento/12a-ultramaratona-do-rs/
CATEGORIES:6 horas
ATTACH;FMTTYPE=image/jpeg:https://corridasderuars.com.br/wp-content/uploads/2017/07/bg19-1.jpg
END:VEVENT
END:VCALENDAR