BEGIN:VCALENDAR
VERSION:2.0
PRODID:-//Corridas de Rua - RS - ECPv4.5.7//NONSGML v1.0//EN
CALSCALE:GREGORIAN
METHOD:PUBLISH
X-WR-CALNAME:Corridas de Rua - RS
X-ORIGINAL-URL:https://corridasderuars.com.br
X-WR-CALDESC:Events for Corridas de Rua - RS
BEGIN:VEVENT
DTSTART;TZID=UTC+0:20171012T090000
DTEND;TZID=UTC+0:20171012T090000
DTSTAMP:20260420T082526
CREATED:20170814T131017Z
LAST-MODIFIED:20170814T131044Z
UID:2656-1507798800-1507798800@corridasderuars.com.br
SUMMARY:12ª RÚSTICA CONTRA A VIOLÊNCIA INFANTIL
DESCRIPTION:
URL:https://corridasderuars.com.br/evento/12a-rustica-contra-a-violencia-infantil/
CATEGORIES:4km,8km
ATTACH;FMTTYPE=image/jpeg:https://corridasderuars.com.br/wp-content/uploads/2017/07/bg36.jpg
END:VEVENT
END:VCALENDAR