BEGIN:VCALENDAR
VERSION:2.0
PRODID:-//Corridas de Rua - RS - ECPv4.5.7//NONSGML v1.0//EN
CALSCALE:GREGORIAN
METHOD:PUBLISH
X-WR-CALNAME:Corridas de Rua - RS
X-ORIGINAL-URL:https://corridasderuars.com.br
X-WR-CALDESC:Events for Corridas de Rua - RS
BEGIN:VEVENT
DTSTART;TZID=UTC+0:20170716T090000
DTEND;TZID=UTC+0:20170716T090000
DTSTAMP:20260420T065526
CREATED:20170704T211140Z
LAST-MODIFIED:20170710T143523Z
UID:2157-1500195600-1500195600@corridasderuars.com.br
SUMMARY:11ª Rústica de Inverno
DESCRIPTION:
URL:https://corridasderuars.com.br/evento/11a-rustica-de-inverno/
CATEGORIES:10km,5km
ATTACH;FMTTYPE=image/jpeg:https://corridasderuars.com.br/wp-content/uploads/2017/07/bg1-1.jpg
END:VEVENT
END:VCALENDAR