BEGIN:VCALENDAR
VERSION:2.0
PRODID:-//Corridas de Rua - RS - ECPv4.5.7//NONSGML v1.0//EN
CALSCALE:GREGORIAN
METHOD:PUBLISH
X-WR-CALNAME:Corridas de Rua - RS
X-ORIGINAL-URL:https://corridasderuars.com.br
X-WR-CALDESC:Events for Corridas de Rua - RS
BEGIN:VEVENT
DTSTART;TZID=UTC+0:20171217T083000
DTEND;TZID=UTC+0:20171217T083000
DTSTAMP:20260420T054039
CREATED:20171207T115626Z
LAST-MODIFIED:20171207T115626Z
UID:3296-1513499400-1513499400@corridasderuars.com.br
SUMMARY:11ª Rústica Cidade de Marcelino Ramos
DESCRIPTION:
URL:https://corridasderuars.com.br/evento/11a-rustica-cidade-de-marcelino-ramos/
CATEGORIES:4.8km
ATTACH;FMTTYPE=image/jpeg:https://corridasderuars.com.br/wp-content/uploads/2017/12/bg59.jpg
END:VEVENT
END:VCALENDAR