BEGIN:VCALENDAR
VERSION:2.0
PRODID:-//Corridas de Rua - RS - ECPv4.5.7//NONSGML v1.0//EN
CALSCALE:GREGORIAN
METHOD:PUBLISH
X-WR-CALNAME:Corridas de Rua - RS
X-ORIGINAL-URL:https://corridasderuars.com.br
X-WR-CALDESC:Events for Corridas de Rua - RS
BEGIN:VEVENT
DTSTART;TZID=UTC+0:20181104T073000
DTEND;TZID=UTC+0:20181104T073000
DTSTAMP:20260419T214244
CREATED:20180730T144346Z
LAST-MODIFIED:20180730T144346Z
UID:4082-1541316600-1541316600@corridasderuars.com.br
SUMMARY:11ª Meia Maratona Rádio São Gabriel e Rústica Rádio São Gabriel
DESCRIPTION:
URL:https://corridasderuars.com.br/evento/11a-meia-maratona-radio-sao-gabriel-e-rustica-radio-sao-gabriel/
CATEGORIES:21km,3km
ATTACH;FMTTYPE=image/jpeg:https://corridasderuars.com.br/wp-content/uploads/2017/12/bg59.jpg
END:VEVENT
END:VCALENDAR