BEGIN:VCALENDAR
VERSION:2.0
PRODID:-//Corridas de Rua - RS - ECPv4.5.7//NONSGML v1.0//EN
CALSCALE:GREGORIAN
METHOD:PUBLISH
X-WR-CALNAME:Corridas de Rua - RS
X-ORIGINAL-URL:https://corridasderuars.com.br
X-WR-CALDESC:Events for Corridas de Rua - RS
BEGIN:VEVENT
DTSTART;TZID=UTC+0:20190414T083000
DTEND;TZID=UTC+0:20190414T083000
DTSTAMP:20260420T020231
CREATED:20181203T180647Z
LAST-MODIFIED:20181203T180647Z
UID:4585-1555230600-1555230600@corridasderuars.com.br
SUMMARY:10ª Corrida de São Jorge
DESCRIPTION:
URL:https://corridasderuars.com.br/evento/10a-corrida-de-sao-jorge/
CATEGORIES:3km,5km
ATTACH;FMTTYPE=image/jpeg:https://corridasderuars.com.br/wp-content/uploads/2018/10/bg88.jpg
END:VEVENT
END:VCALENDAR