BEGIN:VCALENDAR
VERSION:2.0
PRODID:-//Corridas de Rua - RS - ECPv4.5.7//NONSGML v1.0//EN
CALSCALE:GREGORIAN
METHOD:PUBLISH
X-WR-CALNAME:Corridas de Rua - RS
X-ORIGINAL-URL:https://corridasderuars.com.br
X-WR-CALDESC:Events for Corridas de Rua - RS
BEGIN:VEVENT
DTSTART;TZID=UTC+0:20190519T080000
DTEND;TZID=UTC+0:20190519T080000
DTSTAMP:20260420T112222
CREATED:20190401T134243Z
LAST-MODIFIED:20190401T134243Z
UID:4996-1558252800-1558252800@corridasderuars.com.br
SUMMARY:10 Milhas e Rústica do Doce – 5ª Edição
DESCRIPTION:
URL:https://corridasderuars.com.br/evento/10-milhas-e-rustica-do-doce-5a-edicao/
CATEGORIES:16km,4km
ATTACH;FMTTYPE=image/jpeg:https://corridasderuars.com.br/wp-content/uploads/2018/10/bg82.jpg
END:VEVENT
END:VCALENDAR