BEGIN:VCALENDAR
VERSION:2.0
PRODID:-//Corridas de Rua - RS - ECPv4.5.7//NONSGML v1.0//EN
CALSCALE:GREGORIAN
METHOD:PUBLISH
X-WR-CALNAME:Corridas de Rua - RS
X-ORIGINAL-URL:https://corridasderuars.com.br
X-WR-CALDESC:Events for Corridas de Rua - RS
BEGIN:VEVENT
DTSTART;TZID=UTC+0:20211031T070000
DTEND;TZID=UTC+0:20211031T070000
DTSTAMP:20260421T084047
CREATED:20210811T144827Z
LAST-MODIFIED:20210811T145045Z
UID:7294-1635663600-1635663600@corridasderuars.com.br
SUMMARY:10 Milhas de Esteio - XV Edição
DESCRIPTION:Mais informações e inscrições: (51) 98109.1466 \n
URL:https://corridasderuars.com.br/evento/10-milhas-de-esteio-xv-edicao/
CATEGORIES:16km,8km
ATTACH;FMTTYPE=image/jpeg:https://corridasderuars.com.br/wp-content/uploads/2019/08/bg213.jpg
END:VEVENT
END:VCALENDAR