BEGIN:VCALENDAR
VERSION:2.0
PRODID:-//Corridas de Rua - RS - ECPv4.5.7//NONSGML v1.0//EN
CALSCALE:GREGORIAN
METHOD:PUBLISH
X-WR-CALNAME:Corridas de Rua - RS
X-ORIGINAL-URL:https://corridasderuars.com.br
X-WR-CALDESC:Events for Corridas de Rua - RS
BEGIN:VEVENT
DTSTART;TZID=UTC+0:20171217T083000
DTEND;TZID=UTC+0:20171217T083000
DTSTAMP:20260420T061559
CREATED:20171121T121755Z
LAST-MODIFIED:20171121T121755Z
UID:3213-1513499400-1513499400@corridasderuars.com.br
SUMMARY:1° Treino de Corrida\, Caminhada e Pedalada Solidária de Natal
DESCRIPTION:
URL:https://corridasderuars.com.br/evento/1-treino-de-corrida-caminhada-e-pedalada-solidaria-de-natal/
CATEGORIES:5km
ATTACH;FMTTYPE=image/jpeg:https://corridasderuars.com.br/wp-content/uploads/2017/07/bg18-1.jpg
END:VEVENT
END:VCALENDAR