BEGIN:VCALENDAR
VERSION:2.0
PRODID:-//Corridas de Rua - RS - ECPv4.5.7//NONSGML v1.0//EN
CALSCALE:GREGORIAN
METHOD:PUBLISH
X-WR-CALNAME:Corridas de Rua - RS
X-ORIGINAL-URL:https://corridasderuars.com.br
X-WR-CALDESC:Events for Corridas de Rua - RS
BEGIN:VEVENT
DTSTART;TZID=UTC+0:20190908T153000
DTEND;TZID=UTC+0:20190908T153000
DTSTAMP:20260421T122718
CREATED:20190815T194755Z
LAST-MODIFIED:20190815T194755Z
UID:5551-1567956600-1567956600@corridasderuars.com.br
SUMMARY:1° Rústica Jornal Folha da Cidade
DESCRIPTION:
URL:https://corridasderuars.com.br/evento/1-rustica-jornal-folha-da-cidade/
CATEGORIES:4km
ATTACH;FMTTYPE=image/jpeg:https://corridasderuars.com.br/wp-content/uploads/2017/07/bg19-1.jpg
END:VEVENT
END:VCALENDAR