BEGIN:VCALENDAR
VERSION:2.0
PRODID:-//Corridas de Rua - RS - ECPv4.5.7//NONSGML v1.0//EN
CALSCALE:GREGORIAN
METHOD:PUBLISH
X-WR-CALNAME:Corridas de Rua - RS
X-ORIGINAL-URL:https://corridasderuars.com.br
X-WR-CALDESC:Events for Corridas de Rua - RS
BEGIN:VEVENT
DTSTART;TZID=UTC+0:20190414T090000
DTEND;TZID=UTC+0:20190414T090000
DTSTAMP:20260419T200456
CREATED:20190214T130419Z
LAST-MODIFIED:20190214T130419Z
UID:4844-1555232400-1555232400@corridasderuars.com.br
SUMMARY:1° Rústica de Coqueiro Baixo
DESCRIPTION:
URL:https://corridasderuars.com.br/evento/1-rustica-de-coqueiro-baixo/
CATEGORIES:5km
ATTACH;FMTTYPE=image/jpeg:https://corridasderuars.com.br/wp-content/uploads/2017/12/bg61.jpg
END:VEVENT
END:VCALENDAR