BEGIN:VCALENDAR
VERSION:2.0
PRODID:-//Corridas de Rua - RS - ECPv4.5.7//NONSGML v1.0//EN
CALSCALE:GREGORIAN
METHOD:PUBLISH
X-WR-CALNAME:Corridas de Rua - RS
X-ORIGINAL-URL:https://corridasderuars.com.br
X-WR-CALDESC:Events for Corridas de Rua - RS
BEGIN:VEVENT
DTSTART;TZID=UTC+0:20171217T090000
DTEND;TZID=UTC+0:20171217T090000
DTSTAMP:20260420T040821
CREATED:20171025T184919Z
LAST-MODIFIED:20171114T174934Z
UID:2979-1513501200-1513501200@corridasderuars.com.br
SUMMARY:1° Circuito de Corrida e Caminhada APUSM - OAB/SM
DESCRIPTION:
URL:https://corridasderuars.com.br/evento/1-circuito-de-corrida-e-caminhada-apusm-oabsm/
CATEGORIES:3km,5km
ATTACH;FMTTYPE=image/jpeg:https://corridasderuars.com.br/wp-content/uploads/2017/07/bg7-1.jpg
END:VEVENT
END:VCALENDAR