BEGIN:VCALENDAR
VERSION:2.0
PRODID:-//Corridas de Rua - RS - ECPv4.5.7//NONSGML v1.0//EN
CALSCALE:GREGORIAN
METHOD:PUBLISH
X-WR-CALNAME:Corridas de Rua - RS
X-ORIGINAL-URL:https://corridasderuars.com.br
X-WR-CALDESC:Events for Corridas de Rua - RS
BEGIN:VEVENT
DTSTART;TZID=UTC+0:20171008T090000
DTEND;TZID=UTC+0:20171008T090000
DTSTAMP:20260420T095154
CREATED:20170711T151411Z
LAST-MODIFIED:20170711T151450Z
UID:2428-1507453200-1507453200@corridasderuars.com.br
SUMMARY:1° Circuito de Corrida de Rua Bagé 2017 - 3ª Etapa - Clínica Gervásio
DESCRIPTION:
URL:https://corridasderuars.com.br/evento/1-circuito-de-corrida-de-rua-bage-2017-3a-etapa-clinica-gervasio/
CATEGORIES:3km,6km
ATTACH;FMTTYPE=image/jpeg:https://corridasderuars.com.br/wp-content/uploads/2017/07/bg33.jpg
END:VEVENT
END:VCALENDAR