BEGIN:VCALENDAR
VERSION:2.0
PRODID:-//Corridas de Rua - RS - ECPv4.5.7//NONSGML v1.0//EN
CALSCALE:GREGORIAN
METHOD:PUBLISH
X-WR-CALNAME:Corridas de Rua - RS
X-ORIGINAL-URL:https://corridasderuars.com.br
X-WR-CALDESC:Events for Corridas de Rua - RS
BEGIN:VEVENT
DTSTART;TZID=UTC+0:20180120T180000
DTEND;TZID=UTC+0:20180120T180000
DTSTAMP:20260420T025538
CREATED:20180105T192621Z
LAST-MODIFIED:20180105T192712Z
UID:3400-1516471200-1516471200@corridasderuars.com.br
SUMMARY:1° Adventure Beach Sesc Cassino
DESCRIPTION:
URL:https://corridasderuars.com.br/evento/1-adventure-beach-sesc-cassino/
CATEGORIES:4km
ATTACH;FMTTYPE=image/jpeg:https://corridasderuars.com.br/wp-content/uploads/2017/07/bg32.jpg
END:VEVENT
END:VCALENDAR