BEGIN:VCALENDAR
VERSION:2.0
PRODID:-//Corridas de Rua - RS - ECPv4.5.7//NONSGML v1.0//EN
CALSCALE:GREGORIAN
METHOD:PUBLISH
X-WR-CALNAME:Corridas de Rua - RS
X-ORIGINAL-URL:https://corridasderuars.com.br
X-WR-CALDESC:Events for Corridas de Rua - RS
BEGIN:VEVENT
DTSTART;TZID=UTC+0:20171029T090000
DTEND;TZID=UTC+0:20171029T090000
DTSTAMP:20260420T071052
CREATED:20171011T122719Z
LAST-MODIFIED:20171011T122719Z
UID:2919-1509267600-1509267600@corridasderuars.com.br
SUMMARY:1 ª Caminhada e Corrida Outubro Rosa
DESCRIPTION:
URL:https://corridasderuars.com.br/evento/1-a-caminhada-e-corrida-outubro-rosa/
ATTACH;FMTTYPE=image/jpeg:https://corridasderuars.com.br/wp-content/uploads/2017/07/bg8-1.jpg
END:VEVENT
END:VCALENDAR